Package: biocmake Version: 0.99.0 Command: /Library/Frameworks/R.framework/Resources/bin/R CMD INSTALL biocmake StartedAt: 2025-02-19 15:03:18 -0500 (Wed, 19 Feb 2025) EndedAt: 2025-02-19 15:03:23 -0500 (Wed, 19 Feb 2025) EllapsedTime: 5.0 seconds RetCode: 0 Status: OK