Package: biocmake Version: 0.99.0 Command: /Library/Frameworks/R.framework/Resources/bin/R CMD check --install=check:biocmake.install-out.txt --library=/Library/Frameworks/R.framework/Resources/library --no-vignettes --timings biocmake_0.99.0.tar.gz StartedAt: 2025-02-19 18:17:04 -0500 (Wed, 19 Feb 2025) EndedAt: 2025-02-19 18:17:19 -0500 (Wed, 19 Feb 2025) EllapsedTime: 14.9 seconds RetCode: 0 Status: OK CheckDir: biocmake.Rcheck Warnings: 0