Package: biocViews Version: 1.75.0 Command: /home/biocbuild/bbs-3.21-bioc/R/bin/R CMD check --install=check:biocViews.install-out.txt --library=/home/biocbuild/bbs-3.21-bioc/R/site-library --timings biocViews_1.75.0.tar.gz StartedAt: 2025-02-20 20:20:02 -0500 (Thu, 20 Feb 2025) EndedAt: 2025-02-20 20:21:11 -0500 (Thu, 20 Feb 2025) EllapsedTime: 69.2 seconds RetCode: 0 Status: OK CheckDir: biocViews.Rcheck Warnings: 0