Package: biocGraph Version: 1.69.0 Command: chmod a+r biocGraph -R && E:\biocbuild\bbs-3.21-bioc\R\bin\R.exe CMD build --keep-empty-dirs --no-resave-data biocGraph StartedAt: 2025-02-20 17:30:33 -0500 (Thu, 20 Feb 2025) EndedAt: 2025-02-20 17:32:12 -0500 (Thu, 20 Feb 2025) EllapsedTime: 99.8 seconds RetCode: 0 Status: OK PackageFile: biocGraph_1.69.0.tar.gz PackageFileSize: 448.5 KiB