Package: biocGraph Version: 1.69.0 Command: rm -rf biocGraph.buildbin-libdir && mkdir biocGraph.buildbin-libdir && E:\biocbuild\bbs-3.21-bioc\R\bin\R.exe CMD INSTALL --build --library=biocGraph.buildbin-libdir biocGraph_1.69.0.tar.gz StartedAt: 2025-02-21 07:38:25 -0500 (Fri, 21 Feb 2025) EndedAt: 2025-02-21 07:38:49 -0500 (Fri, 21 Feb 2025) EllapsedTime: 24.6 seconds RetCode: 0 Status: OK PackageFile: biocGraph_1.69.0.zip PackageFileSize: 440.8 KiB