############################################################################## ############################################################################## ### ### Running command: ### ### /home/biocbuild/bbs-3.21-bioc/R/bin/R CMD build --keep-empty-dirs --no-resave-data biocGraph ### ############################################################################## ############################################################################## * checking for file ‘biocGraph/DESCRIPTION’ ... OK * preparing ‘biocGraph’: * checking DESCRIPTION meta-information ... OK * installing the package to build vignettes ----------------------------------- ERROR: dependency ‘Rgraphviz’ is not available for package ‘biocGraph’ Perhaps try a variation of: install.packages('Rgraphviz') * removing ‘/tmp/RtmpBNEbtO/Rinst1179c97b2d134f/biocGraph’ ----------------------------------- ERROR: package installation failed