Package: biocGraph Version: 1.69.0 Command: /Library/Frameworks/R.framework/Resources/bin/R CMD INSTALL biocGraph StartedAt: 2025-02-20 15:22:51 -0500 (Thu, 20 Feb 2025) EndedAt: 2025-02-20 15:23:11 -0500 (Thu, 20 Feb 2025) EllapsedTime: 19.4 seconds RetCode: 0 Status: OK