Package: biocGraph Version: 1.69.0 Command: /Library/Frameworks/R.framework/Resources/bin/R CMD build --keep-empty-dirs --no-resave-data biocGraph StartedAt: 2025-02-20 16:00:00 -0500 (Thu, 20 Feb 2025) EndedAt: 2025-02-20 16:00:32 -0500 (Thu, 20 Feb 2025) EllapsedTime: 32.0 seconds RetCode: 0 Status: OK PackageFile: biocGraph_1.69.0.tar.gz PackageFileSize: 728.6 KiB