Package: biocGraph Version: 1.69.0 Command: /Library/Frameworks/R.framework/Resources/bin/R CMD build --keep-empty-dirs --no-resave-data biocGraph StartedAt: 2025-02-21 15:40:48 -0500 (Fri, 21 Feb 2025) EndedAt: 2025-02-21 15:41:01 -0500 (Fri, 21 Feb 2025) EllapsedTime: 12.1 seconds RetCode: 0 Status: OK PackageFile: biocGraph_1.69.0.tar.gz PackageFileSize: 730.6 KiB