Package: biobtreeR Version: 1.19.0 Command: E:\biocbuild\bbs-3.21-bioc\R\bin\R.exe CMD INSTALL biobtreeR StartedAt: 2025-02-20 15:27:25 -0500 (Thu, 20 Feb 2025) EndedAt: 2025-02-20 15:27:40 -0500 (Thu, 20 Feb 2025) EllapsedTime: 14.9 seconds RetCode: 0 Status: OK