Package: biobtreeR Version: 1.19.0 Command: chmod a+r biobtreeR -R && E:\biocbuild\bbs-3.21-bioc\R\bin\R.exe CMD build --keep-empty-dirs --no-resave-data biobtreeR StartedAt: 2025-02-20 17:28:58 -0500 (Thu, 20 Feb 2025) EndedAt: 2025-02-20 17:30:16 -0500 (Thu, 20 Feb 2025) EllapsedTime: 77.5 seconds RetCode: 0 Status: OK PackageFile: biobtreeR_1.19.0.tar.gz PackageFileSize: 938.4 KiB