Package: biobroom Version: 1.39.0 Command: /home/biocbuild/bbs-3.21-bioc/R/bin/R CMD INSTALL biobroom StartedAt: 2025-02-19 15:13:01 -0500 (Wed, 19 Feb 2025) EndedAt: 2025-02-19 15:13:07 -0500 (Wed, 19 Feb 2025) EllapsedTime: 5.1 seconds RetCode: 0 Status: OK