Package: biobroom Version: 1.39.0 Command: /Library/Frameworks/R.framework/Resources/bin/R CMD build --keep-empty-dirs --no-resave-data biobroom StartedAt: 2025-02-20 15:59:28 -0500 (Thu, 20 Feb 2025) EndedAt: 2025-02-20 16:00:19 -0500 (Thu, 20 Feb 2025) EllapsedTime: 51.5 seconds RetCode: 0 Status: OK PackageFile: biobroom_1.39.0.tar.gz PackageFileSize: 584.7 KiB