Package: biobroom Version: 1.39.0 Command: rm -rf biobroom.buildbin-libdir && mkdir biobroom.buildbin-libdir && /Users/biocbuild/BBS/utils/build-universal.sh biobroom_1.39.0.tar.gz /Library/Frameworks/R.framework/Resources/bin/R biobroom.buildbin-libdir StartedAt: 2025-02-21 00:20:52 -0500 (Fri, 21 Feb 2025) EndedAt: 2025-02-21 00:21:01 -0500 (Fri, 21 Feb 2025) EllapsedTime: 9.4 seconds RetCode: 0 Status: OK PackageFile: biobroom_1.39.0.tgz PackageFileSize: 813.2 KiB