Package: biobroom Version: 1.39.0 Command: /home/biocbuild/R/R/bin/R CMD INSTALL biobroom StartedAt: 2025-01-29 19:34:54 -0000 (Wed, 29 Jan 2025) EndedAt: 2025-01-29 19:35:17 -0000 (Wed, 29 Jan 2025) EllapsedTime: 23.3 seconds RetCode: 0 Status: OK