Package: bioassayR Version: 1.45.0 Command: chmod a+r bioassayR -R && E:\biocbuild\bbs-3.21-bioc\R\bin\R.exe CMD build --keep-empty-dirs --no-resave-data bioassayR StartedAt: 2025-02-20 17:28:13 -0500 (Thu, 20 Feb 2025) EndedAt: 2025-02-20 17:31:07 -0500 (Thu, 20 Feb 2025) EllapsedTime: 173.9 seconds RetCode: 0 Status: OK PackageFile: bioassayR_1.45.0.tar.gz PackageFileSize: 1.245 MiB