Package: bioassayR Version: 1.45.0 Command: /home/biocbuild/bbs-3.21-bioc/R/bin/R CMD check --install=check:bioassayR.install-out.txt --library=/home/biocbuild/bbs-3.21-bioc/R/site-library --timings bioassayR_1.45.0.tar.gz StartedAt: 2025-02-20 20:16:40 -0500 (Thu, 20 Feb 2025) EndedAt: 2025-02-20 20:18:30 -0500 (Thu, 20 Feb 2025) EllapsedTime: 110.4 seconds RetCode: 0 Status: OK CheckDir: bioassayR.Rcheck Warnings: 0