Package: bioassayR Version: 1.45.0 Command: /Library/Frameworks/R.framework/Resources/bin/R CMD check --install=check:bioassayR.install-out.txt --library=/Library/Frameworks/R.framework/Resources/library --no-vignettes --timings bioassayR_1.45.0.tar.gz StartedAt: 2025-02-20 18:13:20 -0500 (Thu, 20 Feb 2025) EndedAt: 2025-02-20 18:13:53 -0500 (Thu, 20 Feb 2025) EllapsedTime: 32.4 seconds RetCode: 1 Status: ERROR CheckDir: bioassayR.Rcheck Warnings: NA