Package: bioassayR Version: 1.45.0 Command: /Library/Frameworks/R.framework/Resources/bin/R CMD build --keep-empty-dirs --no-resave-data bioassayR StartedAt: 2025-02-20 15:40:14 -0500 (Thu, 20 Feb 2025) EndedAt: 2025-02-20 15:40:30 -0500 (Thu, 20 Feb 2025) EllapsedTime: 16.2 seconds RetCode: 0 Status: OK PackageFile: bioassayR_1.45.0.tar.gz PackageFileSize: 1.379 MiB