Package: bioDist Version: 1.79.0 Command: rm -rf bioDist.buildbin-libdir && mkdir bioDist.buildbin-libdir && E:\biocbuild\bbs-3.21-bioc\R\bin\R.exe CMD INSTALL --build --library=bioDist.buildbin-libdir bioDist_1.79.0.tar.gz StartedAt: 2025-02-21 07:40:00 -0500 (Fri, 21 Feb 2025) EndedAt: 2025-02-21 07:40:15 -0500 (Fri, 21 Feb 2025) EllapsedTime: 15.2 seconds RetCode: 0 Status: OK PackageFile: bioDist_1.79.0.zip PackageFileSize: 167.5 KiB