Package: bioDist Version: 1.79.0 Command: /home/biocbuild/bbs-3.21-bioc/R/bin/R CMD INSTALL bioDist StartedAt: 2025-02-21 15:55:02 -0500 (Fri, 21 Feb 2025) EndedAt: 2025-02-21 15:55:05 -0500 (Fri, 21 Feb 2025) EllapsedTime: 2.8 seconds RetCode: 0 Status: OK