Package: bioDist Version: 1.79.0 Command: /Library/Frameworks/R.framework/Resources/bin/R CMD check --install=check:bioDist.install-out.txt --library=/Library/Frameworks/R.framework/Resources/library --no-vignettes --timings bioDist_1.79.0.tar.gz StartedAt: 2025-02-20 19:07:28 -0500 (Thu, 20 Feb 2025) EndedAt: 2025-02-20 19:08:10 -0500 (Thu, 20 Feb 2025) EllapsedTime: 41.3 seconds RetCode: 0 Status: OK CheckDir: bioDist.Rcheck Warnings: 0