Package: bioDist Version: 1.79.0 Command: rm -rf bioDist.buildbin-libdir && mkdir bioDist.buildbin-libdir && /Users/biocbuild/BBS/utils/build-universal.sh bioDist_1.79.0.tar.gz /Library/Frameworks/R.framework/Resources/bin/R bioDist.buildbin-libdir StartedAt: 2025-02-21 00:21:15 -0500 (Fri, 21 Feb 2025) EndedAt: 2025-02-21 00:21:22 -0500 (Fri, 21 Feb 2025) EllapsedTime: 6.9 seconds RetCode: 0 Status: OK PackageFile: bioDist_1.79.0.tgz PackageFileSize: 254.8 KiB