Package: bioDist Version: 1.79.0 Command: /Library/Frameworks/R.framework/Resources/bin/R CMD build --keep-empty-dirs --no-resave-data bioDist StartedAt: 2025-02-20 15:42:25 -0500 (Thu, 20 Feb 2025) EndedAt: 2025-02-20 15:42:32 -0500 (Thu, 20 Feb 2025) EllapsedTime: 7.1 seconds RetCode: 0 Status: OK PackageFile: bioDist_1.79.0.tar.gz PackageFileSize: 204.5 KiB