Package: bioCancer Version: 1.35.0 Command: rm -rf bioCancer.buildbin-libdir && mkdir bioCancer.buildbin-libdir && /Users/biocbuild/BBS/utils/build-universal.sh bioCancer_1.35.0.tar.gz /Library/Frameworks/R.framework/Resources/bin/R bioCancer.buildbin-libdir StartedAt: 2025-02-20 00:22:12 -0500 (Thu, 20 Feb 2025) EndedAt: 2025-02-20 00:23:32 -0500 (Thu, 20 Feb 2025) EllapsedTime: 80.1 seconds RetCode: 0 Status: OK PackageFile: bioCancer_1.35.0.tgz PackageFileSize: 7.42 MiB