Package: bioCancer Version: 1.35.0 Command: rm -rf bioCancer.buildbin-libdir && mkdir bioCancer.buildbin-libdir && /Users/biocbuild/BBS/utils/build-universal.sh bioCancer_1.35.0.tar.gz /Library/Frameworks/R.framework/Resources/bin/R bioCancer.buildbin-libdir StartedAt: 2025-02-19 22:14:37 -0500 (Wed, 19 Feb 2025) EndedAt: 2025-02-19 22:15:02 -0500 (Wed, 19 Feb 2025) EllapsedTime: 24.6 seconds RetCode: 0 Status: OK PackageFile: bioCancer_1.35.0.tgz PackageFileSize: 7.423 MiB