Package: bigmelon Version: 1.33.0 Command: E:\biocbuild\bbs-3.21-bioc\R\bin\R.exe CMD INSTALL bigmelon StartedAt: 2025-02-19 16:58:50 -0500 (Wed, 19 Feb 2025) EndedAt: 2025-02-19 17:00:15 -0500 (Wed, 19 Feb 2025) EllapsedTime: 84.4 seconds RetCode: 0 Status: OK