Package: bigmelon Version: 1.33.0 Command: chmod a+r bigmelon -R && E:\biocbuild\bbs-3.21-bioc\R\bin\R.exe CMD build --keep-empty-dirs --no-resave-data bigmelon StartedAt: 2025-02-20 17:26:46 -0500 (Thu, 20 Feb 2025) EndedAt: 2025-02-20 17:28:57 -0500 (Thu, 20 Feb 2025) EllapsedTime: 131.3 seconds RetCode: 0 Status: OK PackageFile: bigmelon_1.33.0.tar.gz PackageFileSize: 902.2 KiB