Package: bigmelon Version: 1.33.0 Command: rm -rf bigmelon.buildbin-libdir && mkdir bigmelon.buildbin-libdir && E:\biocbuild\bbs-3.21-bioc\R\bin\R.exe CMD INSTALL --build --library=bigmelon.buildbin-libdir bigmelon_1.33.0.tar.gz StartedAt: 2025-02-20 07:19:41 -0500 (Thu, 20 Feb 2025) EndedAt: 2025-02-20 07:21:24 -0500 (Thu, 20 Feb 2025) EllapsedTime: 102.8 seconds RetCode: 0 Status: OK PackageFile: bigmelon_1.33.0.zip PackageFileSize: 1.205 MiB