Package: bigmelon Version: 1.33.0 Command: /home/biocbuild/bbs-3.21-bioc/R/bin/R CMD INSTALL bigmelon StartedAt: 2025-02-20 16:15:58 -0500 (Thu, 20 Feb 2025) EndedAt: 2025-02-20 16:16:47 -0500 (Thu, 20 Feb 2025) EllapsedTime: 49.0 seconds RetCode: 0 Status: OK