Package: bigmelon Version: 1.33.0 Command: /home/biocbuild/bbs-3.21-bioc/R/bin/R CMD check --install=check:bigmelon.install-out.txt --library=/home/biocbuild/bbs-3.21-bioc/R/site-library --timings bigmelon_1.33.0.tar.gz StartedAt: 2025-02-19 20:16:21 -0500 (Wed, 19 Feb 2025) EndedAt: 2025-02-19 20:23:51 -0500 (Wed, 19 Feb 2025) EllapsedTime: 450.0 seconds RetCode: 0 Status: WARNINGS CheckDir: bigmelon.Rcheck Warnings: 5