Package: bigmelon Version: 1.33.0 Command: /Library/Frameworks/R.framework/Resources/bin/R CMD build --keep-empty-dirs --no-resave-data bigmelon StartedAt: 2025-02-19 15:59:09 -0500 (Wed, 19 Feb 2025) EndedAt: 2025-02-19 16:00:33 -0500 (Wed, 19 Feb 2025) EllapsedTime: 84.5 seconds RetCode: 0 Status: OK PackageFile: bigmelon_1.33.0.tar.gz PackageFileSize: 901.9 KiB