Package: bigmelon Version: 1.33.0 Command: rm -rf bigmelon.buildbin-libdir && mkdir bigmelon.buildbin-libdir && /Users/biocbuild/BBS/utils/build-universal.sh bigmelon_1.33.0.tar.gz /Library/Frameworks/R.framework/Resources/bin/R bigmelon.buildbin-libdir StartedAt: 2025-02-21 00:20:42 -0500 (Fri, 21 Feb 2025) EndedAt: 2025-02-21 00:22:02 -0500 (Fri, 21 Feb 2025) EllapsedTime: 79.9 seconds RetCode: 0 Status: OK PackageFile: bigmelon_1.33.0.tgz PackageFileSize: 1.202 MiB