Package: bigmelon Version: 1.33.0 Command: /Library/Frameworks/R.framework/Resources/bin/R CMD INSTALL bigmelon StartedAt: 2025-02-20 15:28:38 -0500 (Thu, 20 Feb 2025) EndedAt: 2025-02-20 15:29:00 -0500 (Thu, 20 Feb 2025) EllapsedTime: 22.8 seconds RetCode: 0 Status: OK