Package: bgx Version: 1.73.0 Command: rm -rf bgx.buildbin-libdir && mkdir bgx.buildbin-libdir && E:\biocbuild\bbs-3.21-bioc\R\bin\R.exe CMD INSTALL --build --library=bgx.buildbin-libdir bgx_1.73.0.tar.gz StartedAt: 2025-02-19 06:59:00 -0500 (Wed, 19 Feb 2025) EndedAt: 2025-02-19 07:02:00 -0500 (Wed, 19 Feb 2025) EllapsedTime: 179.9 seconds RetCode: 0 Status: OK PackageFile: bgx_1.73.0.zip PackageFileSize: 536.3 KiB