Package: bgx Version: 1.73.0 Command: /home/biocbuild/bbs-3.21-bioc/R/bin/R CMD build --keep-empty-dirs --no-resave-data bgx StartedAt: 2025-02-18 16:15:55 -0500 (Tue, 18 Feb 2025) EndedAt: 2025-02-18 16:16:25 -0500 (Tue, 18 Feb 2025) EllapsedTime: 30.0 seconds RetCode: 1 Status: ERROR PackageFile: None PackageFileSize: NA