Package: bgx Version: 1.73.0 Command: /Library/Frameworks/R.framework/Resources/bin/R CMD INSTALL bgx StartedAt: 2025-02-19 15:10:06 -0500 (Wed, 19 Feb 2025) EndedAt: 2025-02-19 15:10:58 -0500 (Wed, 19 Feb 2025) EllapsedTime: 51.8 seconds RetCode: 0 Status: OK