Package: bettr Version: 1.3.0 Command: E:\biocbuild\bbs-3.21-bioc\R\bin\R.exe CMD INSTALL bettr StartedAt: 2025-02-19 16:20:02 -0500 (Wed, 19 Feb 2025) EndedAt: 2025-02-19 16:20:40 -0500 (Wed, 19 Feb 2025) EllapsedTime: 38.2 seconds RetCode: 0 Status: OK