Package: bettr Version: 1.3.0 Command: /home/biocbuild/bbs-3.21-bioc/R/bin/R CMD build --keep-empty-dirs --no-resave-data bettr StartedAt: 2025-02-19 16:17:13 -0500 (Wed, 19 Feb 2025) EndedAt: 2025-02-19 16:17:54 -0500 (Wed, 19 Feb 2025) EllapsedTime: 41.0 seconds RetCode: 0 Status: OK PackageFile: bettr_1.3.0.tar.gz PackageFileSize: 2.565 MiB