Package: bettr Version: 1.3.0 Command: /Library/Frameworks/R.framework/Resources/bin/R CMD INSTALL bettr StartedAt: 2025-02-19 15:17:43 -0500 (Wed, 19 Feb 2025) EndedAt: 2025-02-19 15:17:54 -0500 (Wed, 19 Feb 2025) EllapsedTime: 10.7 seconds RetCode: 0 Status: OK