Package: betaHMM Version: 1.3.1 Command: rm -rf betaHMM.buildbin-libdir && mkdir betaHMM.buildbin-libdir && E:\biocbuild\bbs-3.21-bioc\R\bin\R.exe CMD INSTALL --build --library=betaHMM.buildbin-libdir betaHMM_1.3.1.tar.gz StartedAt: 2025-02-19 06:58:50 -0500 (Wed, 19 Feb 2025) EndedAt: 2025-02-19 06:59:37 -0500 (Wed, 19 Feb 2025) EllapsedTime: 47.2 seconds RetCode: 0 Status: OK PackageFile: betaHMM_1.3.1.zip PackageFileSize: 3.537 MiB