Package: betaHMM Version: 1.3.1 Command: /home/biocbuild/bbs-3.21-bioc/R/bin/R CMD INSTALL betaHMM StartedAt: 2025-02-18 15:16:05 -0500 (Tue, 18 Feb 2025) EndedAt: 2025-02-18 15:16:30 -0500 (Tue, 18 Feb 2025) EllapsedTime: 24.5 seconds RetCode: 0 Status: OK