Package: betaHMM Version: 1.3.1 Command: /Library/Frameworks/R.framework/Resources/bin/R CMD INSTALL betaHMM StartedAt: 2025-02-19 15:10:35 -0500 (Wed, 19 Feb 2025) EndedAt: 2025-02-19 15:11:08 -0500 (Wed, 19 Feb 2025) EllapsedTime: 33.4 seconds RetCode: 0 Status: OK