Package: betaHMM Version: 1.3.1 Command: /Library/Frameworks/R.framework/Resources/bin/R CMD check --install=check:betaHMM.install-out.txt --library=/Library/Frameworks/R.framework/Resources/library --no-vignettes --timings betaHMM_1.3.1.tar.gz StartedAt: 2025-02-20 18:11:59 -0500 (Thu, 20 Feb 2025) EndedAt: 2025-02-20 18:15:40 -0500 (Thu, 20 Feb 2025) EllapsedTime: 220.7 seconds RetCode: 0 Status: OK CheckDir: betaHMM.Rcheck Warnings: 0