Package: betaHMM Version: 1.3.1 Command: /Library/Frameworks/R.framework/Resources/bin/R CMD build --keep-empty-dirs --no-resave-data betaHMM StartedAt: 2025-02-19 15:39:24 -0500 (Wed, 19 Feb 2025) EndedAt: 2025-02-19 15:41:05 -0500 (Wed, 19 Feb 2025) EllapsedTime: 101.1 seconds RetCode: 0 Status: OK PackageFile: betaHMM_1.3.1.tar.gz PackageFileSize: 3.835 MiB