Package: benchdamic Version: 1.13.2 Command: E:\biocbuild\bbs-3.21-bioc\R\bin\R.exe CMD INSTALL benchdamic StartedAt: 2025-02-20 16:21:15 -0500 (Thu, 20 Feb 2025) EndedAt: 2025-02-20 16:23:02 -0500 (Thu, 20 Feb 2025) EllapsedTime: 106.7 seconds RetCode: 0 Status: OK