Package: beer Version: 1.11.0 Command: chmod a+r beer -R && E:\biocbuild\bbs-3.21-bioc\R\bin\R.exe CMD build --keep-empty-dirs --no-resave-data beer StartedAt: 2025-02-21 18:03:37 -0500 (Fri, 21 Feb 2025) EndedAt: 2025-02-21 18:10:01 -0500 (Fri, 21 Feb 2025) EllapsedTime: 383.5 seconds RetCode: 0 Status: OK PackageFile: beer_1.11.0.tar.gz PackageFileSize: 383.4 KiB