Package: beer Version: 1.11.0 Command: rm -rf beer.buildbin-libdir && mkdir beer.buildbin-libdir && E:\biocbuild\bbs-3.21-bioc\R\bin\R.exe CMD INSTALL --build --library=beer.buildbin-libdir beer_1.11.0.tar.gz StartedAt: 2025-02-22 07:54:27 -0500 (Sat, 22 Feb 2025) EndedAt: 2025-02-22 07:55:04 -0500 (Sat, 22 Feb 2025) EllapsedTime: 37.5 seconds RetCode: 0 Status: OK PackageFile: beer_1.11.0.zip PackageFileSize: 482.3 KiB