Package: beer Version: 1.11.0 Command: /home/biocbuild/bbs-3.21-bioc/R/bin/R CMD check --install=check:beer.install-out.txt --library=/home/biocbuild/bbs-3.21-bioc/R/site-library --timings beer_1.11.0.tar.gz StartedAt: 2025-02-20 20:13:21 -0500 (Thu, 20 Feb 2025) EndedAt: 2025-02-20 20:21:41 -0500 (Thu, 20 Feb 2025) EllapsedTime: 500.1 seconds RetCode: 0 Status: OK CheckDir: beer.Rcheck Warnings: 0