Package: beer Version: 1.11.0 Command: /Library/Frameworks/R.framework/Resources/bin/R CMD INSTALL beer StartedAt: 2025-02-20 15:14:25 -0500 (Thu, 20 Feb 2025) EndedAt: 2025-02-20 15:14:37 -0500 (Thu, 20 Feb 2025) EllapsedTime: 11.1 seconds RetCode: 0 Status: OK